BEGIN:VCALENDAR
VERSION:2.0
PRODID:-//wp-events-plugin.com//7.2.3.1//EN
TZID:Europe/Berlin
X-WR-TIMEZONE:Europe/Berlin
BEGIN:VEVENT
UID:18@sages-eg.org
DTSTART;TZID=Europe/Berlin:20250531T140000
DTEND;TZID=Europe/Berlin:20250531T223000
DTSTAMP:20250515T060443Z
URL:https://www.sages-eg.org/events/20-jubilaeumsfest-%f0%9f%8e%89-und-mit
 gliederversammlung-der-sages-eg/
SUMMARY:20. Jubiläumsfest der SAGES eG
DESCRIPTION:Darin geht es Rückblickend auf das Jahr 2024 hauptsächlich um
  finanzielle und formale Aspekte. Welchen Jahresüberschuss haben wir ange
 häuft? Welche Projekte gibt es? Wer besetzt das Aufsichtsratsgemium? Ande
 rs als im letzten Jahr wollen wir die Berichte aus dem Aufsichtsrat und Vo
 rstand jedoch kurz halten.\nJubiläumsfeier\nAm Samstag\, den 31. Mai 2025
  wollen wir im Ansachluss an die Mitgliederversammlung spätestens um 17:0
 0 Uhr auf einen gelungenen Jahresabschluss 2024 und eine großartige Zukun
 ft anstoßen. Dies wird im Pavillon für Alle in der Lehener-str. 77p (neb
 en dem Arbeitsamt im Baugebiet Kleineschholz) auch vor dem Hintergrund ein
 er Festschrift\, die an das 20. jährigen Bestehen des SAGES erinnert und 
 Stimmen der Günderinnen\, ehemaligen Vorstände und Aufsichtsrät*innen z
 u Gehör bringt!\n\nMischen Sie sich unter Künstler*innen und Mitarbeiten
 den\, Mithelfende und drehen Sie am Glücksrad. Eintritt und Getränke sin
 d frei. Neben den kühlen Getränken\, Kaffee und Live-Musik\, gibt es ein
 e Kunstausstellung und eine Tombola. Bitte bringen Sie aus Ihrem Fundus f
 ür die gemeinsame Tombola etwas mit\, das in den letzten 20 Jahren gelung
 en oder in Würde älter geworden ist.\n\nGegen Abend werden wir dann eine
 n Grill anfeuern und das gemeinsame Mitbringbuffet eröffnen. Auch für da
 s Buffet sind Ihre Beiträge hoch willkommen. Die SAGES stellt dazu Brot u
 nd Getränke bereit.\n\nBei Musik aus der Dose (gerne können Sie Ihre Mus
 ikwünsche bereits jetzt per E-Mail einsenden) wollen wir abschließend am
  Feuer über die Mär von den Bremer Stadtmusikanten philosophieren.
ATTACH;FMTTYPE=image/jpeg:https://www.sages-eg.org/wp-content/uploads/2025
 /05/headerGV_Jubilaeum2025.jpg
CATEGORIES:DNA-Die Neuen Alten,SAGES
END:VEVENT
BEGIN:VTIMEZONE
TZID:Europe/Berlin
X-LIC-LOCATION:Europe/Berlin
BEGIN:DAYLIGHT
DTSTART:20250330T030000
TZOFFSETFROM:+0100
TZOFFSETTO:+0200
TZNAME:CEST
END:DAYLIGHT
END:VTIMEZONE
END:VCALENDAR